Package: ChIPQC Version: 1.40.0 Command: rm -rf ChIPQC.buildbin-libdir && mkdir ChIPQC.buildbin-libdir && /Users/biocbuild/BBS/utils/build-universal.sh ChIPQC_1.40.0.tar.gz /Library/Frameworks/R.framework/Resources/bin/R ChIPQC.buildbin-libdir StartedAt: 2024-10-17 15:50:27 -0400 (Thu, 17 Oct 2024) EndedAt: 2024-10-17 15:52:42 -0400 (Thu, 17 Oct 2024) EllapsedTime: 135.0 seconds RetCode: 0 Status: OK PackageFile: ChIPQC_1.40.0.tgz PackageFileSize: 2.084 MiB