Package: ChIPQC Version: 1.40.0 Command: /Library/Frameworks/R.framework/Resources/bin/R CMD check --install=check:ChIPQC.install-out.txt --library=/Library/Frameworks/R.framework/Resources/library --no-vignettes --timings ChIPQC_1.40.0.tar.gz StartedAt: 2024-10-17 15:57:06 -0400 (Thu, 17 Oct 2024) EndedAt: 2024-10-17 16:05:44 -0400 (Thu, 17 Oct 2024) EllapsedTime: 518.0 seconds RetCode: 0 Status: WARNINGS CheckDir: ChIPQC.Rcheck Warnings: 1