Package: ChIPQC Version: 1.40.0 Command: rm -rf ChIPQC.buildbin-libdir && mkdir ChIPQC.buildbin-libdir && /Users/biocbuild/BBS/utils/build-universal.sh ChIPQC_1.40.0.tar.gz /Library/Frameworks/R.framework/Resources/bin/R ChIPQC.buildbin-libdir StartedAt: 2024-10-18 17:44:59 -0400 (Fri, 18 Oct 2024) EndedAt: 2024-10-18 17:46:18 -0400 (Fri, 18 Oct 2024) EllapsedTime: 78.7 seconds RetCode: 0 Status: OK PackageFile: ChIPQC_1.40.0.tgz PackageFileSize: 2.085 MiB