Package: ChIPQC Version: 1.40.0 Maintainer: Tom Carroll , Rory Stark MaintainerEmail: bioconductor at starkhome.com git_url: https://git.bioconductor.org/packages/ChIPQC git_branch: RELEASE_3_19 git_last_commit: b105a43 git_last_commit_date: 2024-04-30 10:35:54 -0400 (Tue, 30 Apr 2024)