Package: ChIPComp Version: 1.34.0 Command: E:\biocbuild\bbs-3.19-bioc\R\bin\R.exe CMD INSTALL ChIPComp StartedAt: 2024-10-16 16:30:30 -0400 (Wed, 16 Oct 2024) EndedAt: 2024-10-16 16:31:08 -0400 (Wed, 16 Oct 2024) EllapsedTime: 38.1 seconds RetCode: 0 Status: OK