Package: ChIPComp Version: 1.34.0 Command: /Library/Frameworks/R.framework/Resources/bin/R CMD check --install=check:ChIPComp.install-out.txt --library=/Library/Frameworks/R.framework/Resources/library --no-vignettes --timings ChIPComp_1.34.0.tar.gz StartedAt: 2024-06-09 19:22:31 -0400 (Sun, 09 Jun 2024) EndedAt: 2024-06-09 19:26:50 -0400 (Sun, 09 Jun 2024) EllapsedTime: 259.0 seconds RetCode: 0 Status: OK CheckDir: ChIPComp.Rcheck Warnings: 0