Package: ChIPComp Version: 1.34.0 Command: /home/biocbuild/R/R-beta-2024-04-15_r86425/bin/R CMD build --keep-empty-dirs --no-resave-data ChIPComp StartedAt: 2024-05-08 23:14:35 -0000 (Wed, 08 May 2024) EndedAt: 2024-05-08 23:15:47 -0000 (Wed, 08 May 2024) EllapsedTime: 72.1 seconds RetCode: 0 Status: OK PackageFile: ChIPComp_1.34.0.tar.gz PackageFileSize: 589 KiB