Package: ChIPComp Version: 1.34.0 Command: /Library/Frameworks/R.framework/Resources/bin/R CMD build --keep-empty-dirs --no-resave-data ChIPComp StartedAt: 2024-10-16 21:17:57 -0400 (Wed, 16 Oct 2024) EndedAt: 2024-10-16 21:19:08 -0400 (Wed, 16 Oct 2024) EllapsedTime: 71.0 seconds RetCode: 0 Status: OK PackageFile: ChIPComp_1.34.0.tar.gz PackageFileSize: 596 KiB