Package: CexoR Version: 1.42.0 Command: /Library/Frameworks/R.framework/Resources/bin/R CMD check --install=check:CexoR.install-out.txt --library=/Library/Frameworks/R.framework/Resources/library --no-vignettes --timings CexoR_1.42.0.tar.gz StartedAt: 2024-10-17 02:33:25 -0400 (Thu, 17 Oct 2024) EndedAt: 2024-10-17 02:44:43 -0400 (Thu, 17 Oct 2024) EllapsedTime: 677.8 seconds RetCode: 0 Status: OK CheckDir: CexoR.Rcheck Warnings: 0