Package: CexoR Version: 1.42.0 Command: /Library/Frameworks/R.framework/Resources/bin/R CMD check --install=check:CexoR.install-out.txt --library=/Library/Frameworks/R.framework/Resources/library --no-vignettes --timings CexoR_1.42.0.tar.gz StartedAt: 2024-06-09 19:20:41 -0400 (Sun, 09 Jun 2024) EndedAt: 2024-06-09 19:25:49 -0400 (Sun, 09 Jun 2024) EllapsedTime: 308.7 seconds RetCode: 0 Status: OK CheckDir: CexoR.Rcheck Warnings: 0