Package: CexoR Version: 1.42.0 Maintainer: Pedro Madrigal MaintainerEmail: pmadrigal at ebi.ac.uk git_url: https://git.bioconductor.org/packages/CexoR git_branch: RELEASE_3_19 git_last_commit: af27fa1 git_last_commit_date: 2024-04-30 11:37:45 -0400 (Tue, 30 Apr 2024)