Package: Cepo Version: 1.10.2 Command: E:\biocbuild\bbs-3.19-bioc\R\bin\R.exe CMD INSTALL Cepo StartedAt: 2024-10-16 16:27:47 -0400 (Wed, 16 Oct 2024) EndedAt: 2024-10-16 16:28:26 -0400 (Wed, 16 Oct 2024) EllapsedTime: 39.2 seconds RetCode: 0 Status: OK