Package: Cepo Version: 1.10.2 Command: E:\biocbuild\bbs-3.19-bioc\R\bin\R.exe CMD check --no-multiarch --install=check:Cepo.install-out.txt --library=E:\biocbuild\bbs-3.19-bioc\R\library --no-vignettes --timings Cepo_1.10.2.tar.gz StartedAt: 2024-10-16 23:50:54 -0400 (Wed, 16 Oct 2024) EndedAt: 2024-10-16 23:55:20 -0400 (Wed, 16 Oct 2024) EllapsedTime: 266.6 seconds RetCode: 0 Status: OK CheckDir: Cepo.Rcheck Warnings: 0