Package: Cepo Version: 1.10.2 Command: chmod a+r Cepo -R && E:\biocbuild\bbs-3.19-bioc\R\bin\R.exe CMD build --keep-empty-dirs --no-resave-data Cepo StartedAt: 2024-10-16 18:06:54 -0400 (Wed, 16 Oct 2024) EndedAt: 2024-10-16 18:09:14 -0400 (Wed, 16 Oct 2024) EllapsedTime: 140.1 seconds RetCode: 0 Status: OK PackageFile: Cepo_1.10.2.tar.gz PackageFileSize: 2.488 MiB