Package: Cepo Version: 1.10.2 Command: rm -rf Cepo.buildbin-libdir && mkdir Cepo.buildbin-libdir && E:\biocbuild\bbs-3.19-bioc\R\bin\R.exe CMD INSTALL --build --library=Cepo.buildbin-libdir Cepo_1.10.2.tar.gz StartedAt: 2024-10-17 07:30:40 -0400 (Thu, 17 Oct 2024) EndedAt: 2024-10-17 07:31:21 -0400 (Thu, 17 Oct 2024) EllapsedTime: 41.5 seconds RetCode: 0 Status: OK PackageFile: Cepo_1.10.2.zip PackageFileSize: 2.526 MiB