Package: Cepo Version: 1.9.0 Command: F:\biocbuild\bbs-3.19-bioc\R\bin\R.exe CMD check --no-multiarch --install=check:Cepo.install-out.txt --library=F:\biocbuild\bbs-3.19-bioc\R\library --no-vignettes --timings Cepo_1.9.0.tar.gz StartedAt: 2024-03-02 00:59:56 -0500 (Sat, 02 Mar 2024) EndedAt: 2024-03-02 01:03:47 -0500 (Sat, 02 Mar 2024) EllapsedTime: 230.5 seconds RetCode: 0 Status: WARNINGS CheckDir: Cepo.Rcheck Warnings: 3