Package: Cepo Version: 1.10.0 Command: chmod a+r Cepo -R && F:\biocbuild\bbs-3.19-bioc\R\bin\R.exe CMD build --keep-empty-dirs --no-resave-data Cepo StartedAt: 2024-06-26 17:42:55 -0400 (Wed, 26 Jun 2024) EndedAt: 2024-06-26 17:44:44 -0400 (Wed, 26 Jun 2024) EllapsedTime: 108.6 seconds RetCode: 1 Status: ERROR PackageFile: None PackageFileSize: NA