Package: Cepo Version: 1.10.2 Command: /home/biocbuild/bbs-3.19-bioc/R/bin/R CMD INSTALL Cepo StartedAt: 2024-10-16 16:05:52 -0400 (Wed, 16 Oct 2024) EndedAt: 2024-10-16 16:06:26 -0400 (Wed, 16 Oct 2024) EllapsedTime: 33.9 seconds RetCode: 0 Status: OK