Package: Cepo Version: 1.10.2 Command: /home/biocbuild/bbs-3.19-bioc/R/bin/R CMD check --install=check:Cepo.install-out.txt --library=/home/biocbuild/bbs-3.19-bioc/R/site-library --timings Cepo_1.10.2.tar.gz StartedAt: 2024-10-16 22:36:55 -0400 (Wed, 16 Oct 2024) EndedAt: 2024-10-16 22:42:10 -0400 (Wed, 16 Oct 2024) EllapsedTime: 314.7 seconds RetCode: 0 Status: OK CheckDir: Cepo.Rcheck Warnings: 0