Package: Cepo Version: 1.10.2 Command: /home/biocbuild/bbs-3.19-bioc/R/bin/R CMD build --keep-empty-dirs --no-resave-data Cepo StartedAt: 2024-10-16 17:37:34 -0400 (Wed, 16 Oct 2024) EndedAt: 2024-10-16 17:39:10 -0400 (Wed, 16 Oct 2024) EllapsedTime: 96.2 seconds RetCode: 0 Status: OK PackageFile: Cepo_1.10.2.tar.gz PackageFileSize: 2.903 MiB