Package: Cepo Version: 1.10.2 Command: /Library/Frameworks/R.framework/Resources/bin/R CMD check --install=check:Cepo.install-out.txt --library=/Library/Frameworks/R.framework/Resources/library --no-vignettes --timings Cepo_1.10.2.tar.gz StartedAt: 2024-10-17 02:31:14 -0400 (Thu, 17 Oct 2024) EndedAt: 2024-10-17 02:40:28 -0400 (Thu, 17 Oct 2024) EllapsedTime: 554.6 seconds RetCode: 0 Status: OK CheckDir: Cepo.Rcheck Warnings: 0