Package: Cepo Version: 1.10.2 Command: /Library/Frameworks/R.framework/Resources/bin/R CMD build --keep-empty-dirs --no-resave-data Cepo StartedAt: 2024-10-16 17:49:05 -0400 (Wed, 16 Oct 2024) EndedAt: 2024-10-16 17:52:41 -0400 (Wed, 16 Oct 2024) EllapsedTime: 215.5 seconds RetCode: 0 Status: OK PackageFile: Cepo_1.10.2.tar.gz PackageFileSize: 3.92 MiB