Package: Cepo Version: 1.10.2 Command: rm -rf Cepo.buildbin-libdir && mkdir Cepo.buildbin-libdir && /Users/biocbuild/BBS/utils/build-universal.sh Cepo_1.10.2.tar.gz /Library/Frameworks/R.framework/Resources/bin/R Cepo.buildbin-libdir StartedAt: 2024-10-17 15:49:16 -0400 (Thu, 17 Oct 2024) EndedAt: 2024-10-17 15:50:39 -0400 (Thu, 17 Oct 2024) EllapsedTime: 83.3 seconds RetCode: 0 Status: OK PackageFile: Cepo_1.10.2.tgz PackageFileSize: 3.956 MiB