Package: Cepo Version: 1.9.0 Command: /home/biocbuild/R/R-devel_2024-01-16_r85812/bin/R CMD check --install=check:Cepo.install-out.txt --library=/home/biocbuild/R/R-devel_2024-01-16_r85812/site-library --no-vignettes --timings Cepo_1.9.0.tar.gz StartedAt: 2024-03-02 04:08:21 -0000 (Sat, 02 Mar 2024) EndedAt: 2024-03-02 04:13:24 -0000 (Sat, 02 Mar 2024) EllapsedTime: 302.5 seconds RetCode: 0 Status: WARNINGS CheckDir: Cepo.Rcheck Warnings: 3