Package: CelliD Version: 1.12.0 Command: /Library/Frameworks/R.framework/Resources/bin/R CMD build --keep-empty-dirs --no-resave-data CelliD StartedAt: 2024-06-09 16:07:02 -0400 (Sun, 09 Jun 2024) EndedAt: 2024-06-09 16:16:53 -0400 (Sun, 09 Jun 2024) EllapsedTime: 591.4 seconds RetCode: 0 Status: OK PackageFile: CelliD_1.12.0.tar.gz PackageFileSize: 2.66 MiB