Package: CelliD Version: 1.12.0 Command: /home/biocbuild/R/R-beta-2024-04-15_r86425/bin/R CMD check --install=check:CelliD.install-out.txt --library=/home/biocbuild/R/R-beta-2024-04-15_r86425/site-library --no-vignettes --timings CelliD_1.12.0.tar.gz StartedAt: 2024-05-09 05:39:46 -0000 (Thu, 09 May 2024) EndedAt: 2024-05-09 05:47:00 -0000 (Thu, 09 May 2024) EllapsedTime: 433.8 seconds RetCode: 0 Status: WARNINGS CheckDir: CelliD.Rcheck Warnings: 1