Package: CelliD Version: 1.12.0 Command: /Library/Frameworks/R.framework/Resources/bin/R CMD INSTALL CelliD StartedAt: 2024-10-16 18:29:21 -0400 (Wed, 16 Oct 2024) EndedAt: 2024-10-16 18:30:36 -0400 (Wed, 16 Oct 2024) EllapsedTime: 74.4 seconds RetCode: 0 Status: OK