Package: CellTrails Version: 1.22.0 Command: chmod a+r CellTrails -R && E:\biocbuild\bbs-3.19-bioc\R\bin\R.exe CMD build --keep-empty-dirs --no-resave-data CellTrails StartedAt: 2024-10-16 18:06:31 -0400 (Wed, 16 Oct 2024) EndedAt: 2024-10-16 18:07:45 -0400 (Wed, 16 Oct 2024) EllapsedTime: 74.2 seconds RetCode: 0 Status: OK PackageFile: CellTrails_1.22.0.tar.gz PackageFileSize: 2.629 MiB