Package: CellTrails Version: 1.22.0 Command: chmod a+r CellTrails -R && F:\biocbuild\bbs-3.19-bioc\R\bin\R.exe CMD build --keep-empty-dirs --no-resave-data CellTrails StartedAt: 2024-06-26 17:42:27 -0400 (Wed, 26 Jun 2024) EndedAt: 2024-06-26 17:43:26 -0400 (Wed, 26 Jun 2024) EllapsedTime: 58.8 seconds RetCode: 0 Status: OK PackageFile: CellTrails_1.22.0.tar.gz PackageFileSize: 2.629 MiB