Package: CellTrails Version: 1.22.0 Command: rm -rf CellTrails.buildbin-libdir && mkdir CellTrails.buildbin-libdir && F:\biocbuild\bbs-3.19-bioc\R\bin\R.exe CMD INSTALL --build --library=CellTrails.buildbin-libdir CellTrails_1.22.0.tar.gz StartedAt: 2024-06-27 07:58:05 -0400 (Thu, 27 Jun 2024) EndedAt: 2024-06-27 07:58:57 -0400 (Thu, 27 Jun 2024) EllapsedTime: 51.8 seconds RetCode: 0 Status: OK PackageFile: CellTrails_1.22.0.zip PackageFileSize: 3.014 MiB