Package: CellTrails Version: 1.22.0 Command: rm -rf CellTrails.buildbin-libdir && mkdir CellTrails.buildbin-libdir && /Users/biocbuild/BBS/utils/build-universal.sh CellTrails_1.22.0.tar.gz /Library/Frameworks/R.framework/Resources/bin/R CellTrails.buildbin-libdir StartedAt: 2024-10-17 15:49:09 -0400 (Thu, 17 Oct 2024) EndedAt: 2024-10-17 15:50:26 -0400 (Thu, 17 Oct 2024) EllapsedTime: 77.1 seconds RetCode: 0 Status: OK PackageFile: CellTrails_1.22.0.tgz PackageFileSize: 3.008 MiB