Package: CellTrails Version: 1.22.0 Command: /Library/Frameworks/R.framework/Resources/bin/R CMD INSTALL CellTrails StartedAt: 2024-10-16 16:10:23 -0400 (Wed, 16 Oct 2024) EndedAt: 2024-10-16 16:10:59 -0400 (Wed, 16 Oct 2024) EllapsedTime: 35.5 seconds RetCode: 0 Status: OK