Package: CellTrails Version: 1.22.0 Command: /Library/Frameworks/R.framework/Resources/bin/R CMD build --keep-empty-dirs --no-resave-data CellTrails StartedAt: 2024-10-16 21:08:15 -0400 (Wed, 16 Oct 2024) EndedAt: 2024-10-16 21:09:08 -0400 (Wed, 16 Oct 2024) EllapsedTime: 52.7 seconds RetCode: 0 Status: OK PackageFile: CellTrails_1.22.0.tar.gz PackageFileSize: 2.628 MiB