Package: CellScore Version: 1.24.0 Command: /home/biocbuild/bbs-3.19-bioc/R/bin/R CMD build --keep-empty-dirs --no-resave-data CellScore StartedAt: 2024-10-16 17:35:42 -0400 (Wed, 16 Oct 2024) EndedAt: 2024-10-16 17:38:16 -0400 (Wed, 16 Oct 2024) EllapsedTime: 154.2 seconds RetCode: 0 Status: OK PackageFile: CellScore_1.24.0.tar.gz PackageFileSize: 4.211 MiB