Package: CellScore Version: 1.24.0 Command: /Library/Frameworks/R.framework/Resources/bin/R CMD check --install=check:CellScore.install-out.txt --library=/Library/Frameworks/R.framework/Resources/library --no-vignettes --timings CellScore_1.24.0.tar.gz StartedAt: 2024-06-10 10:02:15 -0400 (Mon, 10 Jun 2024) EndedAt: 2024-06-10 10:12:38 -0400 (Mon, 10 Jun 2024) EllapsedTime: 622.8 seconds RetCode: 0 Status: OK CheckDir: CellScore.Rcheck Warnings: 0