Package: CellNOptR Version: 1.50.0 Command: /Library/Frameworks/R.framework/Resources/bin/R CMD INSTALL CellNOptR StartedAt: 2024-06-09 16:17:35 -0400 (Sun, 09 Jun 2024) EndedAt: 2024-06-09 16:18:01 -0400 (Sun, 09 Jun 2024) EllapsedTime: 25.8 seconds RetCode: 0 Status: OK