Package: CellNOptR Version: 1.50.0 Command: /Library/Frameworks/R.framework/Resources/bin/R CMD INSTALL CellNOptR StartedAt: 2024-10-16 17:13:17 -0400 (Wed, 16 Oct 2024) EndedAt: 2024-10-16 17:13:33 -0400 (Wed, 16 Oct 2024) EllapsedTime: 16.5 seconds RetCode: 0 Status: OK