Package: CellMixS Version: 1.20.0 Command: /home/biocbuild/bbs-3.19-bioc/R/bin/R CMD build --keep-empty-dirs --no-resave-data CellMixS StartedAt: 2024-10-16 17:35:05 -0400 (Wed, 16 Oct 2024) EndedAt: 2024-10-16 17:37:34 -0400 (Wed, 16 Oct 2024) EllapsedTime: 149.2 seconds RetCode: 0 Status: OK PackageFile: CellMixS_1.20.0.tar.gz PackageFileSize: 3.84 MiB