Package: CellMapper Version: 1.30.0 Command: /home/biocbuild/bbs-3.19-bioc/R/bin/R CMD check --install=check:CellMapper.install-out.txt --library=/home/biocbuild/bbs-3.19-bioc/R/site-library --timings CellMapper_1.30.0.tar.gz StartedAt: 2024-10-16 22:34:06 -0400 (Wed, 16 Oct 2024) EndedAt: 2024-10-16 22:38:23 -0400 (Wed, 16 Oct 2024) EllapsedTime: 257.6 seconds RetCode: 0 Status: WARNINGS CheckDir: CellMapper.Rcheck Warnings: 1