Package: CellMapper Version: 1.30.0 Command: rm -rf CellMapper.buildbin-libdir && mkdir CellMapper.buildbin-libdir && /Users/biocbuild/BBS/utils/build-universal.sh CellMapper_1.30.0.tar.gz /Library/Frameworks/R.framework/Resources/bin/R CellMapper.buildbin-libdir StartedAt: 2024-06-10 00:10:23 -0400 (Mon, 10 Jun 2024) EndedAt: 2024-06-10 00:10:32 -0400 (Mon, 10 Jun 2024) EllapsedTime: 8.6 seconds RetCode: 0 Status: OK PackageFile: CellMapper_1.30.0.tgz PackageFileSize: 346 KiB