Package: CellMapper Version: 1.30.0 Command: /home/biocbuild/R/R-beta-2024-04-15_r86425/bin/R CMD INSTALL CellMapper StartedAt: 2024-05-08 20:05:51 -0000 (Wed, 08 May 2024) EndedAt: 2024-05-08 20:06:20 -0000 (Wed, 08 May 2024) EllapsedTime: 28.4 seconds RetCode: 0 Status: OK