Package: CellMapper Version: 1.30.0 Command: /home/biocbuild/R/R-beta-2024-04-15_r86425/bin/R CMD check --install=check:CellMapper.install-out.txt --library=/home/biocbuild/R/R-beta-2024-04-15_r86425/site-library --no-vignettes --timings CellMapper_1.30.0.tar.gz StartedAt: 2024-05-09 05:40:15 -0000 (Thu, 09 May 2024) EndedAt: 2024-05-09 05:49:26 -0000 (Thu, 09 May 2024) EllapsedTime: 551.1 seconds RetCode: 0 Status: WARNINGS CheckDir: CellMapper.Rcheck Warnings: 1