Package: CellBench Version: 1.20.0 Command: E:\biocbuild\bbs-3.19-bioc\R\bin\R.exe CMD INSTALL CellBench StartedAt: 2024-10-16 16:23:46 -0400 (Wed, 16 Oct 2024) EndedAt: 2024-10-16 16:24:32 -0400 (Wed, 16 Oct 2024) EllapsedTime: 45.9 seconds RetCode: 0 Status: OK