Package: CellBench Version: 1.20.0 Command: E:\biocbuild\bbs-3.19-bioc\R\bin\R.exe CMD check --no-multiarch --install=check:CellBench.install-out.txt --library=E:\biocbuild\bbs-3.19-bioc\R\library --no-vignettes --timings CellBench_1.20.0.tar.gz StartedAt: 2024-10-16 23:48:40 -0400 (Wed, 16 Oct 2024) EndedAt: 2024-10-16 23:53:37 -0400 (Wed, 16 Oct 2024) EllapsedTime: 296.3 seconds RetCode: 0 Status: OK CheckDir: CellBench.Rcheck Warnings: 0