Package: CellBench Version: 1.20.0 Command: /home/biocbuild/bbs-3.19-bioc/R/bin/R CMD INSTALL CellBench StartedAt: 2024-10-16 16:01:07 -0400 (Wed, 16 Oct 2024) EndedAt: 2024-10-16 16:01:33 -0400 (Wed, 16 Oct 2024) EllapsedTime: 26.0 seconds RetCode: 0 Status: OK