Package: CellBench Version: 1.20.0 Command: /home/biocbuild/bbs-3.19-bioc/R/bin/R CMD check --install=check:CellBench.install-out.txt --library=/home/biocbuild/bbs-3.19-bioc/R/site-library --timings CellBench_1.20.0.tar.gz StartedAt: 2024-10-16 22:33:00 -0400 (Wed, 16 Oct 2024) EndedAt: 2024-10-16 22:37:53 -0400 (Wed, 16 Oct 2024) EllapsedTime: 293.6 seconds RetCode: 0 Status: OK CheckDir: CellBench.Rcheck Warnings: 0