Package: CellBench Version: 1.20.0 Command: /home/biocbuild/bbs-3.19-bioc/R/bin/R CMD build --keep-empty-dirs --no-resave-data CellBench StartedAt: 2024-10-16 17:33:50 -0400 (Wed, 16 Oct 2024) EndedAt: 2024-10-16 17:34:41 -0400 (Wed, 16 Oct 2024) EllapsedTime: 51.1 seconds RetCode: 0 Status: OK PackageFile: CellBench_1.20.0.tar.gz PackageFileSize: 2.997 MiB