Package: CellBench Version: 1.20.0 Command: /Library/Frameworks/R.framework/Resources/bin/R CMD build --keep-empty-dirs --no-resave-data CellBench StartedAt: 2024-10-16 21:02:36 -0400 (Wed, 16 Oct 2024) EndedAt: 2024-10-16 21:03:47 -0400 (Wed, 16 Oct 2024) EllapsedTime: 70.8 seconds RetCode: 0 Status: OK PackageFile: CellBench_1.20.0.tar.gz PackageFileSize: 3.017 MiB