Package: CellBench Version: 1.20.0 Command: rm -rf CellBench.buildbin-libdir && mkdir CellBench.buildbin-libdir && /Users/biocbuild/BBS/utils/build-universal.sh CellBench_1.20.0.tar.gz /Library/Frameworks/R.framework/Resources/bin/R CellBench.buildbin-libdir StartedAt: 2024-10-18 17:41:08 -0400 (Fri, 18 Oct 2024) EndedAt: 2024-10-18 17:41:46 -0400 (Fri, 18 Oct 2024) EllapsedTime: 38.2 seconds RetCode: 0 Status: OK PackageFile: CellBench_1.20.0.tgz PackageFileSize: 3.094 MiB