Package: CellBarcode Version: 1.10.0 Command: /home/biocbuild/bbs-3.19-bioc/R/bin/R CMD check --install=check:CellBarcode.install-out.txt --library=/home/biocbuild/bbs-3.19-bioc/R/site-library --timings CellBarcode_1.10.0.tar.gz StartedAt: 2024-10-16 22:32:49 -0400 (Wed, 16 Oct 2024) EndedAt: 2024-10-16 22:37:53 -0400 (Wed, 16 Oct 2024) EllapsedTime: 304.7 seconds RetCode: 0 Status: OK CheckDir: CellBarcode.Rcheck Warnings: 0